BEGIN:VCALENDAR
VERSION:2.0
PRODID:-//Adventure Science Center - ECPv6.0.8//NONSGML v1.0//EN
CALSCALE:GREGORIAN
METHOD:PUBLISH
X-ORIGINAL-URL:https://www.adventuresci.org
X-WR-CALDESC:Events for Adventure Science Center
REFRESH-INTERVAL;VALUE=DURATION:PT1H
X-Robots-Tag:noindex
X-PUBLISHED-TTL:PT1H
BEGIN:VTIMEZONE
TZID:UTC
BEGIN:STANDARD
TZOFFSETFROM:+0000
TZOFFSETTO:+0000
TZNAME:UTC
DTSTART:20220101T000000
END:STANDARD
END:VTIMEZONE
BEGIN:VEVENT
DTSTART;TZID=UTC:20221105T183000
DTEND;TZID=UTC:20221105T223000
DTSTAMP:20260422T101120
CREATED:20220819T152353Z
LAST-MODIFIED:20220901T134352Z
UID:16616-1667673000-1667687400@www.adventuresci.org
SUMMARY:awaken: Wonder
DESCRIPTION:Saturday\, November 5\, 2022 | 6:30pm - 10:30pmAdventure Science Center is excited to announce the launch of an all-new\, signature fundraising event - awaken. Each year\, awaken will highlight themes illuminating inspiration invoked by science and innovation. This year's theme will focus on all things wonder with extraordinary entertainment\, creative cuisine\, and one-of-a-kind cocktails concocted and served by mixology experts.  The science center will be transformed like never seen before with whimsical decor and unique lighting design to transport guests and bring the spirit of wonder to life.  This evening of sophisticated play will focus on STEAM education and the important role it plays in inspiring future innovators and problem solvers. Funds raised will support programs that promote access\, inspire curiosity and confidence\, and engage communities.  awaken: Wonder is a 21+ event and the $150 ticket will include food\, beverages\, entertainment\, access to all exhibits & interactives\, and a donation to the science center.   Sponsorship OpportunitiesA variety of event sponsorship levels are available upon request by contacting Chief Development Officer\, Kat Cloud\, at kcloud@adventuresci.org
URL:https://www.adventuresci.org/explore/awaken-wonder/
LOCATION:Adventure Science Center\, Nashville
ATTACH;FMTTYPE=image/jpeg:https://www.adventuresci.org/wp-content/uploads/2022/08/iStock-1328850474.jpg
END:VEVENT
END:VCALENDAR