BEGIN:VCALENDAR
VERSION:2.0
PRODID:-//Adventure Science Center - ECPv6.0.8//NONSGML v1.0//EN
CALSCALE:GREGORIAN
METHOD:PUBLISH
X-ORIGINAL-URL:https://www.adventuresci.org
X-WR-CALDESC:Events for Adventure Science Center
REFRESH-INTERVAL;VALUE=DURATION:PT1H
X-Robots-Tag:noindex
X-PUBLISHED-TTL:PT1H
BEGIN:VTIMEZONE
TZID:America/Chicago
BEGIN:DAYLIGHT
TZOFFSETFROM:-0600
TZOFFSETTO:-0500
TZNAME:CDT
DTSTART:20230312T080000
END:DAYLIGHT
BEGIN:STANDARD
TZOFFSETFROM:-0500
TZOFFSETTO:-0600
TZNAME:CST
DTSTART:20231105T070000
END:STANDARD
END:VTIMEZONE
BEGIN:VEVENT
DTSTART;TZID=America/Chicago:20230611T090000
DTEND;TZID=America/Chicago:20230611T150000
DTSTAMP:20260425T053123
CREATED:20230421T171818Z
LAST-MODIFIED:20230605T182458Z
UID:18927-1686474000-1686495600@www.adventuresci.org
SUMMARY:Día del Niño
DESCRIPTION:Sunday\, June 11 | 9:00 am to 3:00 pmSunday\, June 11 is Día del Niño – the day of children! Much like Mother's Day or Father's Day\, this traditional Latin American holiday celebrates the joy of being a child. We're partnering with Conexión Américas to bring themed activities and community partners to the science center to celebrate in style. Timed Activities:Live Science - 11:45 am & 1:45 pmA staff member from Conexión Américas will be on-site to translate the show alongside an Adventure Science Center staff member.Face Painting - 12:00 pm to 2:00 pmCartoonist - 12:00 pm to 2:00 pmOngoing Activities:Free popcorn & cotton candy available for guestsBilingual staff members from Conexión Américas will be available to assist guests in Adventure Gallery\, Tinkering Garage\, and the i2 MakerspaceCommunity Partners:Conexión AméricasAVENTURA NashvilleTennessee Nature AcademyTractor Supply Co.Nashville Public LibraryVanderbilt Brain Development Lab 
URL:https://www.adventuresci.org/explore/dia-del-nino/
CATEGORIES:Free Floor Demonstrations and Activities,Special Events
ATTACH;FMTTYPE=image/png:https://www.adventuresci.org/wp-content/uploads/2023/04/Red-pyramid-building-shot.png
END:VEVENT
END:VCALENDAR