BEGIN:VCALENDAR
VERSION:2.0
PRODID:-//Adventure Science Center - ECPv6.0.8//NONSGML v1.0//EN
CALSCALE:GREGORIAN
METHOD:PUBLISH
X-ORIGINAL-URL:https://www.adventuresci.org
X-WR-CALDESC:Events for Adventure Science Center
REFRESH-INTERVAL;VALUE=DURATION:PT1H
X-Robots-Tag:noindex
X-PUBLISHED-TTL:PT1H
BEGIN:VTIMEZONE
TZID:UTC
BEGIN:STANDARD
TZOFFSETFROM:+0000
TZOFFSETTO:+0000
TZNAME:UTC
DTSTART:20250101T000000
END:STANDARD
END:VTIMEZONE
BEGIN:VEVENT
DTSTART;TZID=UTC:20250704T183000
DTEND;TZID=UTC:20250704T220000
DTSTAMP:20260423T060205
CREATED:20240704T231029Z
LAST-MODIFIED:20250701T161213Z
UID:22786-1751653800-1751666400@www.adventuresci.org
SUMMARY:Red\, White\, & Boom
DESCRIPTION:Friday\, July 4 | 6:30 pm t0 10:00 pm\nGrab your friends and family and join Adventure Science Center to celebrate the 4th of July! \nBefore sitting down on the front lawn to enjoy Nashville’s spectacular fireworks show\, we invite ticket holders to explore the air-conditioned science center\, take in a science or magic show\, and interact with special hands-on activities that examine shiny\, sparkly science! \nThis exclusive evening includes: \n\nSpecial after-hours admission to the science center\, including the upper parking lot to view the downtown fireworks display.\nThemed indoor hands-on activities and outdoor games.\n\nIndoor activities TBA\nOutdoor activities: Cornhole\, checkers\, giant connect four\, giant bubbles\nDJ live broadcast of fireworks music\n\n\nLive Science Shows\nLocal food trucks (additional cost) or BYOP (Bring Your Own Picnic)\n\nFood Vendors TBA\n\n\n\nMake the most of the night by adding a planetarium experience. \nShows in the Sudekum Planetarium: \n\nNightwatch ($9) - 6:50 pm\n\nWhat can you see in the sky on the next clear night? Learn how to locate and identify naked-eye constellations\, bright stars\, planets\, and more in this live show! As the skies above us change with the seasons\, so does the Nightwatch experience.\n(Approx 35 min)\n\nTicketholders must be at the planetarium doors no later than 6:45 pm.\n\n\n\n\nTaylaser ($11) - 7:35 pm\n\nWhat if we told you none of it was accidental? We’ve been scheming like a criminal to bring you all of your favorite Taylor songs from previous eras with laser graphics.\n(Approx 35 min)\n\nTicketholders must be at the planetarium doors no later than 7:30 pm.\n\n\n\n\nLaser Prince ($11) - 8:30 pm\n\nHop in your Little Red Corvette and join us in the Sudekum Planetarium! We'll party like it's 1999 and get Delirious with laser lights and the music of Prince! Don't wait\, Purple Rain or shine\, the show will go on.\n(Approx 35 min)\n\nTicketholders must be at the planetarium doors no later than 8:25 pm.\n\n\n\n\n\nPlease note: advance planetarium show tickets are only available through combo ticket purchase. Additional show tickets may be available onsite while supplies last. SOLD OUT Event Prices:\nWhile Nashville grows\, our prices for Red\, White\, & Boom shrink. Prices for 2025 have been reduced by $5 each. \nEvent Only: Adult - $45; Youth (2-12) - $35 Event/Nightwatch Show Combo: Adult - $54; Youth (2-12) - $44Event/Laser Show Combo: Adult - $56; Youth (2-12) - $46 FAQs and Additional Information:\nEvent access is restricted to Red\, White\, & Boom ticket holders.\nAdventure Science Center will close at 9:00 pm\, and guests will move to the outdoor lawn. Restroom access will remain available until 10:00 pm. \nFireworks start at approximately 9:30 pm and end around 10:00 pm.\nNote that high-rise buildings may impede portions of the show\, but you still enjoy plenty of fireworks without the traffic.\nWe have reduced the maximum capacity of the event to allow guests plenty of space to find a nice view.\n\nPlease note: Standard-height lawn chairs are only allowed on the pavement. The grass area is reserved for blankets and ground-level chairs.\n\n\nFort Negley Blvd. will be closed to through traffic. The parking lot will be accessible at 6:15 pm with proof of ticket purchase.\nSpecial thanks to our Red\, White\, & Boom sponsor: Interested in sponsoring this sell-out event? Email giving@adventuresci.org to learn more.  \nQuestions about the event? Email events@adventuresci.org for assistance. \nInterested in volunteering to help at Red\, White\, & Boom? Click here to learn more and sign up.
URL:https://www.adventuresci.org/explore/red-white-boom/
CATEGORIES:Public Events,Special Events
ATTACH;FMTTYPE=image/jpeg:https://www.adventuresci.org/wp-content/uploads/2023/04/RWB_edited-13.jpg
END:VEVENT
END:VCALENDAR