BEGIN:VCALENDAR
VERSION:2.0
PRODID:-//Adventure Science Center - ECPv6.0.8//NONSGML v1.0//EN
CALSCALE:GREGORIAN
METHOD:PUBLISH
X-WR-CALNAME:Adventure Science Center
X-ORIGINAL-URL:https://www.adventuresci.org
X-WR-CALDESC:Events for Adventure Science Center
REFRESH-INTERVAL;VALUE=DURATION:PT1H
X-Robots-Tag:noindex
X-PUBLISHED-TTL:PT1H
BEGIN:VTIMEZONE
TZID:America/Chicago
BEGIN:DAYLIGHT
TZOFFSETFROM:-0600
TZOFFSETTO:-0500
TZNAME:CDT
DTSTART:20210314T080000
END:DAYLIGHT
BEGIN:STANDARD
TZOFFSETFROM:-0500
TZOFFSETTO:-0600
TZNAME:CST
DTSTART:20211107T070000
END:STANDARD
TZID:UTC
BEGIN:STANDARD
TZOFFSETFROM:+0000
TZOFFSETTO:+0000
TZNAME:UTC
DTSTART:20210101T000000
END:STANDARD
END:VTIMEZONE
BEGIN:VEVENT
DTSTART;TZID=America/Chicago:20211002T161500
DTEND;TZID=America/Chicago:20211002T164500
DTSTAMP:20260421T101404
CREATED:20210920T154110Z
LAST-MODIFIED:20230802T170740Z
UID:12111-1633191300-1633193100@www.adventuresci.org
SUMMARY:Habitat Earth
DESCRIPTION:LIVING IN A CONNECTED WORLDWe think of ourselves as self-sufficient\, but humans live within an intricate network of plants\, animals\, and other life forms that support us in myriad ways. In this show narrated by Frances McDormand\, discover the beauty\, variety\, and vast complexity of these relationships. Through stunning visualizations of the natural world\, dive below the ocean’s surface to explore the dynamic relationships found in kelp forest ecosystems\, travel beneath the forest floor to see how Earth’s tallest trees rely on tiny fungi to survive\, and journey to new heights to witness the intricate intersection between human and ecological networks. You'll learn how life changes our planet and how we benefit from our connections to the life that surrounds us. 23 minutesRecommended for ages 8 and up Captions are available for Habitat Earth—ask a team member as you enter the planetarium. Learn about accessibility at ASC.
URL:https://www.adventuresci.org/explore/habitat-earth-2/2021-10-02/
ATTACH;FMTTYPE=image/jpeg:https://www.adventuresci.org/wp-content/uploads/2021/02/habearthheader.jpg
END:VEVENT
BEGIN:VEVENT
DTSTART;TZID=America/Chicago:20211002T141500
DTEND;TZID=America/Chicago:20211002T150000
DTSTAMP:20260421T101404
CREATED:20210920T154404Z
LAST-MODIFIED:20211018T192428Z
UID:12116-1633184100-1633186800@www.adventuresci.org
SUMMARY:Space Explorers ISS Experience Adapt
DESCRIPTION:About Space Explorers: The ISS Experience: The largest production ever filmed in space\, Space Explorers: The ISS Experience is an epic immersive film that invites you to join eight astronauts on life-changing missions aboard the International Space Station. Shot over two years using specialized 3D 360-degree cameras\, and with exclusive access to the crew\, the film offers an intimate take on the joy\, wonder and dangers of life in orbit. Discover the crew’s unique challenges as they adapt to microgravity\, perform critical science experiments and operations\, and respond to potential catastrophic emergencies. Get access to their full experience through moments of camaraderie\, shared meals\, and personal video logs. Looking back at Earth\, share the astronauts' incredible responsibility to foster hope for humans\, our planet and life itself.  
URL:https://www.adventuresci.org/explore/space-explorers-iss-experience-adapt-3/2021-10-02/
CATEGORIES:Planetarium
ATTACH;FMTTYPE=image/jpeg:https://www.adventuresci.org/wp-content/uploads/2021/06/spaceexplorers_960.jpg
END:VEVENT
BEGIN:VEVENT
DTSTART;TZID=America/Chicago:20211002T111500
DTEND;TZID=America/Chicago:20211002T120000
DTSTAMP:20260421T101404
CREATED:20210915T204147Z
LAST-MODIFIED:20210915T205659Z
UID:12024-1633173300-1633176000@www.adventuresci.org
SUMMARY:Nightwatch
DESCRIPTION:25 minutes\nRecommended ages 9 and up\nCategories: fulldome\, astronomy\, available for private events\n\nCaptions are available for Explore—ask a team member as you enter the planetarium. Learn about accessibility at ASC.
URL:https://www.adventuresci.org/explore/nightwatch-10-02-2021/
CATEGORIES:Planetarium
ATTACH;FMTTYPE=image/jpeg:https://www.adventuresci.org/wp-content/uploads/2021/02/nightwatch_960-1.jpg
END:VEVENT
BEGIN:VEVENT
DTSTART;TZID=America/Chicago:20211002T031500
DTEND;TZID=America/Chicago:20211002T160000
DTSTAMP:20260421T101404
CREATED:20210915T210536Z
LAST-MODIFIED:20210915T210536Z
UID:12034-1633144500-1633190400@www.adventuresci.org
SUMMARY:Nightwatch
DESCRIPTION:25 minutes\nRecommended ages 9 and up\nCategories: fulldome\, astronomy\, available for private events\n\nCaptions are available for Explore—ask a team member as you enter the planetarium. Learn about accessibility at ASC.
URL:https://www.adventuresci.org/explore/nightwatch-10-02-2021-2/
CATEGORIES:Planetarium
ATTACH;FMTTYPE=image/jpeg:https://www.adventuresci.org/wp-content/uploads/2021/02/nightwatch_960-1.jpg
END:VEVENT
BEGIN:VEVENT
DTSTART;TZID=America/Chicago:20211001T141500
DTEND;TZID=America/Chicago:20211001T150000
DTSTAMP:20260421T101404
CREATED:20210915T165409Z
LAST-MODIFIED:20210915T165747Z
UID:11991-1633097700-1633100400@www.adventuresci.org
SUMMARY:Space Explorers ISS Experience Adapt
DESCRIPTION:About Space Explorers: The ISS Experience: The largest production ever filmed in space\, Space Explorers: The ISS Experience is an epic immersive film that invites you to join eight astronauts on life-changing missions aboard the International Space Station. Shot over two years using specialized 3D 360-degree cameras\, and with exclusive access to the crew\, the film offers an intimate take on the joy\, wonder and dangers of life in orbit. Discover the crew’s unique challenges as they adapt to microgravity\, perform critical science experiments and operations\, and respond to potential catastrophic emergencies. Get access to their full experience through moments of camaraderie\, shared meals\, and personal video logs. Looking back at Earth\, share the astronauts' incredible responsibility to foster hope for humans\, our planet and life itself.  
URL:https://www.adventuresci.org/explore/space-explorers-iss-experience-adapt-10-01-2021/
CATEGORIES:Planetarium
ATTACH;FMTTYPE=image/jpeg:https://www.adventuresci.org/wp-content/uploads/2021/06/spaceexplorers_960.jpg
END:VEVENT
BEGIN:VEVENT
DTSTART;TZID=America/Chicago:20211001T111500
DTEND;TZID=America/Chicago:20211001T120000
DTSTAMP:20260421T101404
CREATED:20210915T151755Z
LAST-MODIFIED:20210915T205553Z
UID:11965-1633086900-1633089600@www.adventuresci.org
SUMMARY:Nightwatch
DESCRIPTION:25 minutes\nRecommended ages 9 and up\nCategories: fulldome\, astronomy\, available for private events\n\nCaptions are available for Explore—ask a team member as you enter the planetarium. Learn about accessibility at ASC.
URL:https://www.adventuresci.org/explore/nightwatch-10-01-2021/
CATEGORIES:Planetarium
ATTACH;FMTTYPE=image/jpeg:https://www.adventuresci.org/wp-content/uploads/2021/02/nightwatch_960-1.jpg
END:VEVENT
BEGIN:VEVENT
DTSTART;TZID=America/Chicago:20210930T124500
DTEND;TZID=America/Chicago:20210930T131500
DTSTAMP:20260421T101404
CREATED:20210915T194603Z
LAST-MODIFIED:20210920T153100Z
UID:12009-1633005900-1633007700@www.adventuresci.org
SUMMARY:Space Explorers ISS Experience Adapt
DESCRIPTION:About Space Explorers: The ISS Experience: The largest production ever filmed in space\, Space Explorers: The ISS Experience is an epic immersive film that invites you to join eight astronauts on life-changing missions aboard the International Space Station. Shot over two years using specialized 3D 360-degree cameras\, and with exclusive access to the crew\, the film offers an intimate take on the joy\, wonder and dangers of life in orbit. Discover the crew’s unique challenges as they adapt to microgravity\, perform critical science experiments and operations\, and respond to potential catastrophic emergencies. Get access to their full experience through moments of camaraderie\, shared meals\, and personal video logs. Looking back at Earth\, share the astronauts' incredible responsibility to foster hope for humans\, our planet and life itself.  
URL:https://www.adventuresci.org/explore/space-explorers-iss-experience-adapt-10-02-2021/
CATEGORIES:Planetarium
ATTACH;FMTTYPE=image/jpeg:https://www.adventuresci.org/wp-content/uploads/2021/06/spaceexplorers_960.jpg
END:VEVENT
BEGIN:VEVENT
DTSTART;TZID=America/Chicago:20210930T111500
DTEND;TZID=America/Chicago:20210930T114500
DTSTAMP:20260421T101404
CREATED:20210920T152847Z
LAST-MODIFIED:20210920T152847Z
UID:12109-1633000500-1633002300@www.adventuresci.org
SUMMARY:Nightwatch
DESCRIPTION:25 minutes\nRecommended ages 9 and up\nCategories: fulldome\, astronomy\, available for private events\n\nCaptions are available for Explore—ask a team member as you enter the planetarium. Learn about accessibility at ASC.
URL:https://www.adventuresci.org/explore/nightwatch-5/
CATEGORIES:Planetarium
ATTACH;FMTTYPE=image/jpeg:https://www.adventuresci.org/wp-content/uploads/2021/02/nightwatch_960-1.jpg
END:VEVENT
BEGIN:VEVENT
DTSTART;TZID=America/Chicago:20210927T111500
DTEND;TZID=America/Chicago:20210927T114500
DTSTAMP:20260421T101404
CREATED:20210920T152712Z
LAST-MODIFIED:20210920T152712Z
UID:12108-1632741300-1632743100@www.adventuresci.org
SUMMARY:Nightwatch
DESCRIPTION:25 minutes\nRecommended ages 9 and up\nCategories: fulldome\, astronomy\, available for private events\n\nCaptions are available for Explore—ask a team member as you enter the planetarium. Learn about accessibility at ASC.
URL:https://www.adventuresci.org/explore/nightwatch-4/
CATEGORIES:Planetarium
ATTACH;FMTTYPE=image/jpeg:https://www.adventuresci.org/wp-content/uploads/2021/02/nightwatch_960-1.jpg
END:VEVENT
BEGIN:VEVENT
DTSTART;TZID=America/Chicago:20210926T151500
DTEND;TZID=America/Chicago:20210926T160000
DTSTAMP:20260421T101404
CREATED:20210707T213405Z
LAST-MODIFIED:20211218T155324Z
UID:11065-1632669300-1632672000@www.adventuresci.org
SUMMARY:The Other Side of Pink Floyd
DESCRIPTION:
URL:https://www.adventuresci.org/explore/the-other-side-of-pink-floyd/
CATEGORIES:Planetarium
ATTACH;FMTTYPE=image/jpeg:https://www.adventuresci.org/wp-content/uploads/2021/07/otherside_960.jpg
END:VEVENT
BEGIN:VEVENT
DTSTART;TZID=America/Chicago:20210926T111500
DTEND;TZID=America/Chicago:20210926T114500
DTSTAMP:20260421T101404
CREATED:20210920T152420Z
LAST-MODIFIED:20210920T152420Z
UID:12105-1632654900-1632656700@www.adventuresci.org
SUMMARY:Nightwatch
DESCRIPTION:25 minutes\nRecommended ages 9 and up\nCategories: fulldome\, astronomy\, available for private events\n\nCaptions are available for Explore—ask a team member as you enter the planetarium. Learn about accessibility at ASC.
URL:https://www.adventuresci.org/explore/nightwatch-3/
CATEGORIES:Planetarium
ATTACH;FMTTYPE=image/jpeg:https://www.adventuresci.org/wp-content/uploads/2021/02/nightwatch_960-1.jpg
END:VEVENT
BEGIN:VEVENT
DTSTART;TZID=America/Chicago:20210925T181500
DTEND;TZID=America/Chicago:20210925T190000
DTSTAMP:20260421T101404
CREATED:20210707T214052Z
LAST-MODIFIED:20211218T160351Z
UID:11067-1632593700-1632596400@www.adventuresci.org
SUMMARY:Led Zeppelin
DESCRIPTION:
URL:https://www.adventuresci.org/explore/led-zeppelin/
CATEGORIES:Planetarium
ATTACH;FMTTYPE=image/jpeg:https://www.adventuresci.org/wp-content/uploads/2021/07/zeppelin_960.jpg
END:VEVENT
BEGIN:VEVENT
DTSTART;TZID=UTC:20210925T171500
DTEND;TZID=UTC:20210925T181500
DTSTAMP:20260421T101404
CREATED:20210105T025513Z
LAST-MODIFIED:20211218T155158Z
UID:911-1632590100-1632593700@www.adventuresci.org
SUMMARY:Laser '90s
DESCRIPTION:
URL:https://www.adventuresci.org/explore/lasers-90s/
CATEGORIES:Planetarium
ATTACH;FMTTYPE=image/png:https://www.adventuresci.org/wp-content/uploads/2021/01/90s_960.png
END:VEVENT
BEGIN:VEVENT
DTSTART;TZID=America/Chicago:20210925T151500
DTEND;TZID=America/Chicago:20210925T154500
DTSTAMP:20260421T101404
CREATED:20210920T151730Z
LAST-MODIFIED:20210920T151730Z
UID:12106-1632582900-1632584700@www.adventuresci.org
SUMMARY:Nightwatch
DESCRIPTION:25 minutes\nRecommended ages 9 and up\nCategories: fulldome\, astronomy\, available for private events\n\nCaptions are available for Explore—ask a team member as you enter the planetarium. Learn about accessibility at ASC.
URL:https://www.adventuresci.org/explore/nightwatch-2/
CATEGORIES:Planetarium
ATTACH;FMTTYPE=image/jpeg:https://www.adventuresci.org/wp-content/uploads/2021/02/nightwatch_960-1.jpg
END:VEVENT
BEGIN:VEVENT
DTSTART;TZID=America/Chicago:20210925T111500
DTEND;TZID=America/Chicago:20210925T114500
DTSTAMP:20260421T101404
CREATED:20210723T164651Z
LAST-MODIFIED:20210812T133915Z
UID:11650-1632568500-1632570300@www.adventuresci.org
SUMMARY:Nightwatch
DESCRIPTION:25 minutes\nRecommended ages 9 and up\nCategories: fulldome\, astronomy\, available for private events\n\nCaptions are available for Explore—ask a team member as you enter the planetarium. Learn about accessibility at ASC.
URL:https://www.adventuresci.org/explore/nightwatch-2021-09-25/
CATEGORIES:Planetarium
ATTACH;FMTTYPE=image/jpeg:https://www.adventuresci.org/wp-content/uploads/2021/02/nightwatch_960-1.jpg
END:VEVENT
BEGIN:VEVENT
DTSTART;TZID=America/Chicago:20210924T111500
DTEND;TZID=America/Chicago:20210924T114500
DTSTAMP:20260421T101404
CREATED:20210723T164651Z
LAST-MODIFIED:20210812T133829Z
UID:11641-1632482100-1632483900@www.adventuresci.org
SUMMARY:Nightwatch
DESCRIPTION:25 minutes\nRecommended ages 9 and up\nCategories: fulldome\, astronomy\, available for private events\n\nCaptions are available for Explore—ask a team member as you enter the planetarium. Learn about accessibility at ASC.
URL:https://www.adventuresci.org/explore/nightwatch-2021-09-24/
CATEGORIES:Planetarium
ATTACH;FMTTYPE=image/jpeg:https://www.adventuresci.org/wp-content/uploads/2021/02/nightwatch_960-1.jpg
END:VEVENT
BEGIN:VEVENT
DTSTART;TZID=America/Chicago:20210923T124500
DTEND;TZID=America/Chicago:20210923T133000
DTSTAMP:20260421T101404
CREATED:20210622T051533Z
LAST-MODIFIED:20210827T191445Z
UID:11635-1632401100-1632403800@www.adventuresci.org
SUMMARY:Space Explorers ISS Experience Adapt
DESCRIPTION:About Space Explorers: The ISS Experience: The largest production ever filmed in space\, Space Explorers: The ISS Experience is an epic immersive film that invites you to join eight astronauts on life-changing missions aboard the International Space Station. Shot over two years using specialized 3D 360-degree cameras\, and with exclusive access to the crew\, the film offers an intimate take on the joy\, wonder and dangers of life in orbit. Discover the crew’s unique challenges as they adapt to microgravity\, perform critical science experiments and operations\, and respond to potential catastrophic emergencies. Get access to their full experience through moments of camaraderie\, shared meals\, and personal video logs. Looking back at Earth\, share the astronauts' incredible responsibility to foster hope for humans\, our planet and life itself.  
URL:https://www.adventuresci.org/explore/space-explorers-iss-experience-adapt-2021-09-23/
CATEGORIES:Planetarium
ATTACH;FMTTYPE=image/jpeg:https://www.adventuresci.org/wp-content/uploads/2021/06/spaceexplorers_960.jpg
END:VEVENT
BEGIN:VEVENT
DTSTART;TZID=America/Chicago:20210923T111500
DTEND;TZID=America/Chicago:20210923T114500
DTSTAMP:20260421T101404
CREATED:20210723T164651Z
LAST-MODIFIED:20210812T133807Z
UID:11637-1632395700-1632397500@www.adventuresci.org
SUMMARY:Nightwatch
DESCRIPTION:25 minutes\nRecommended ages 9 and up\nCategories: fulldome\, astronomy\, available for private events\n\nCaptions are available for Explore—ask a team member as you enter the planetarium. Learn about accessibility at ASC.
URL:https://www.adventuresci.org/explore/nightwatch-2021-09-23/
CATEGORIES:Planetarium
ATTACH;FMTTYPE=image/jpeg:https://www.adventuresci.org/wp-content/uploads/2021/02/nightwatch_960-1.jpg
END:VEVENT
BEGIN:VEVENT
DTSTART;TZID=America/Chicago:20210920T111500
DTEND;TZID=America/Chicago:20210920T114500
DTSTAMP:20260421T101404
CREATED:20210723T164651Z
LAST-MODIFIED:20210812T133736Z
UID:11625-1632136500-1632138300@www.adventuresci.org
SUMMARY:Nightwatch
DESCRIPTION:25 minutes\nRecommended ages 9 and up\nCategories: fulldome\, astronomy\, available for private events\n\nCaptions are available for Explore—ask a team member as you enter the planetarium. Learn about accessibility at ASC.
URL:https://www.adventuresci.org/explore/nightwatch-2021-09-20/
CATEGORIES:Planetarium
ATTACH;FMTTYPE=image/jpeg:https://www.adventuresci.org/wp-content/uploads/2021/02/nightwatch_960-1.jpg
END:VEVENT
BEGIN:VEVENT
DTSTART;TZID=America/Chicago:20210919T151500
DTEND;TZID=America/Chicago:20210919T160000
DTSTAMP:20260421T101404
CREATED:20210622T052326Z
LAST-MODIFIED:20211218T155520Z
UID:10422-1632064500-1632067200@www.adventuresci.org
SUMMARY:The Dark Side of the Moon
DESCRIPTION:
URL:https://www.adventuresci.org/explore/the-dark-side-of-the-moon/2021-09-19/
CATEGORIES:Planetarium
ATTACH;FMTTYPE=image/jpeg:https://www.adventuresci.org/wp-content/uploads/2021/06/darkside_960.jpg
END:VEVENT
BEGIN:VEVENT
DTSTART;TZID=America/Chicago:20210919T111500
DTEND;TZID=America/Chicago:20210919T114500
DTSTAMP:20260421T101404
CREATED:20210723T164651Z
LAST-MODIFIED:20210812T133636Z
UID:11624-1632050100-1632051900@www.adventuresci.org
SUMMARY:Nightwatch
DESCRIPTION:25 minutes\nRecommended ages 9 and up\nCategories: fulldome\, astronomy\, available for private events\n\nCaptions are available for Explore—ask a team member as you enter the planetarium. Learn about accessibility at ASC.
URL:https://www.adventuresci.org/explore/nightwatch-2021-09-19/
CATEGORIES:Planetarium
ATTACH;FMTTYPE=image/jpeg:https://www.adventuresci.org/wp-content/uploads/2021/02/nightwatch_960-1.jpg
END:VEVENT
BEGIN:VEVENT
DTSTART;TZID=America/Chicago:20210918T111500
DTEND;TZID=America/Chicago:20210918T114500
DTSTAMP:20260421T101404
CREATED:20210723T164651Z
LAST-MODIFIED:20210812T133517Z
UID:11622-1631963700-1631965500@www.adventuresci.org
SUMMARY:Nightwatch
DESCRIPTION:25 minutes\nRecommended ages 9 and up\nCategories: fulldome\, astronomy\, available for private events\n\nCaptions are available for Explore—ask a team member as you enter the planetarium. Learn about accessibility at ASC.
URL:https://www.adventuresci.org/explore/nightwatch-2021-09-18/
CATEGORIES:Planetarium
ATTACH;FMTTYPE=image/jpeg:https://www.adventuresci.org/wp-content/uploads/2021/02/nightwatch_960-1.jpg
END:VEVENT
BEGIN:VEVENT
DTSTART;TZID=America/Chicago:20210917T111500
DTEND;TZID=America/Chicago:20210917T114500
DTSTAMP:20260421T101404
CREATED:20210723T164651Z
LAST-MODIFIED:20210812T133408Z
UID:11621-1631877300-1631879100@www.adventuresci.org
SUMMARY:Nightwatch
DESCRIPTION:25 minutes\nRecommended ages 9 and up\nCategories: fulldome\, astronomy\, available for private events\n\nCaptions are available for Explore—ask a team member as you enter the planetarium. Learn about accessibility at ASC.
URL:https://www.adventuresci.org/explore/nightwatch-2021-09-17/
CATEGORIES:Planetarium
ATTACH;FMTTYPE=image/jpeg:https://www.adventuresci.org/wp-content/uploads/2021/02/nightwatch_960-1.jpg
END:VEVENT
BEGIN:VEVENT
DTSTART;TZID=America/Chicago:20210916T111500
DTEND;TZID=America/Chicago:20210916T114500
DTSTAMP:20260421T101404
CREATED:20210723T164651Z
LAST-MODIFIED:20210812T133338Z
UID:11620-1631790900-1631792700@www.adventuresci.org
SUMMARY:Nightwatch
DESCRIPTION:25 minutes\nRecommended ages 9 and up\nCategories: fulldome\, astronomy\, available for private events\n\nCaptions are available for Explore—ask a team member as you enter the planetarium. Learn about accessibility at ASC.
URL:https://www.adventuresci.org/explore/nightwatch-2021-09-16/
CATEGORIES:Planetarium
ATTACH;FMTTYPE=image/jpeg:https://www.adventuresci.org/wp-content/uploads/2021/02/nightwatch_960-1.jpg
END:VEVENT
BEGIN:VEVENT
DTSTART;TZID=America/Chicago:20210913T111500
DTEND;TZID=America/Chicago:20210913T114500
DTSTAMP:20260421T101404
CREATED:20210723T164651Z
LAST-MODIFIED:20210812T133312Z
UID:11619-1631531700-1631533500@www.adventuresci.org
SUMMARY:Nightwatch
DESCRIPTION:25 minutes\nRecommended ages 9 and up\nCategories: fulldome\, astronomy\, available for private events\n\nCaptions are available for Explore—ask a team member as you enter the planetarium. Learn about accessibility at ASC.
URL:https://www.adventuresci.org/explore/nightwatch-2021-09-13/
CATEGORIES:Planetarium
ATTACH;FMTTYPE=image/jpeg:https://www.adventuresci.org/wp-content/uploads/2021/02/nightwatch_960-1.jpg
END:VEVENT
BEGIN:VEVENT
DTSTART;TZID=America/Chicago:20210912T111500
DTEND;TZID=America/Chicago:20210912T114500
DTSTAMP:20260421T101404
CREATED:20210723T164651Z
LAST-MODIFIED:20210812T133248Z
UID:11618-1631445300-1631447100@www.adventuresci.org
SUMMARY:Nightwatch
DESCRIPTION:25 minutes\nRecommended ages 9 and up\nCategories: fulldome\, astronomy\, available for private events\n\nCaptions are available for Explore—ask a team member as you enter the planetarium. Learn about accessibility at ASC.
URL:https://www.adventuresci.org/explore/nightwatch-2021-09-12/
CATEGORIES:Planetarium
ATTACH;FMTTYPE=image/jpeg:https://www.adventuresci.org/wp-content/uploads/2021/02/nightwatch_960-1.jpg
END:VEVENT
BEGIN:VEVENT
DTSTART;TZID=America/Chicago:20210911T181500
DTEND;TZID=America/Chicago:20210911T191500
DTSTAMP:20260421T101404
CREATED:20210827T194343Z
LAST-MODIFIED:20220303T200511Z
UID:11877-1631384100-1631387700@www.adventuresci.org
SUMMARY:Laser Prince
DESCRIPTION:
URL:https://www.adventuresci.org/explore/laser-prince-2/2021-09-11/
CATEGORIES:Planetarium
ATTACH;FMTTYPE=image/jpeg:https://www.adventuresci.org/wp-content/uploads/2021/06/prince_960.jpg
END:VEVENT
BEGIN:VEVENT
DTSTART;TZID=America/Chicago:20210911T171500
DTEND;TZID=America/Chicago:20210911T181500
DTSTAMP:20260421T101404
CREATED:20210827T221323Z
LAST-MODIFIED:20211218T155440Z
UID:11881-1631380500-1631384100@www.adventuresci.org
SUMMARY:Rocket Man
DESCRIPTION:
URL:https://www.adventuresci.org/explore/rocket-man/2021-09-11/
CATEGORIES:Planetarium
ATTACH;FMTTYPE=image/png:https://www.adventuresci.org/wp-content/uploads/2021/08/6b40eff2-6d9a-4d7b-ab2e-087c2c2b6c70.png
END:VEVENT
BEGIN:VEVENT
DTSTART;TZID=America/Chicago:20210911T111500
DTEND;TZID=America/Chicago:20210911T114500
DTSTAMP:20260421T101404
CREATED:20210723T164651Z
LAST-MODIFIED:20210812T133126Z
UID:11616-1631358900-1631360700@www.adventuresci.org
SUMMARY:Nightwatch
DESCRIPTION:25 minutes\nRecommended ages 9 and up\nCategories: fulldome\, astronomy\, available for private events\n\nCaptions are available for Explore—ask a team member as you enter the planetarium. Learn about accessibility at ASC.
URL:https://www.adventuresci.org/explore/nightwatch-2021-09-11/
CATEGORIES:Planetarium
ATTACH;FMTTYPE=image/jpeg:https://www.adventuresci.org/wp-content/uploads/2021/02/nightwatch_960-1.jpg
END:VEVENT
BEGIN:VEVENT
DTSTART;TZID=America/Chicago:20210910T111500
DTEND;TZID=America/Chicago:20210910T114500
DTSTAMP:20260421T101404
CREATED:20210723T164651Z
LAST-MODIFIED:20210812T133038Z
UID:11615-1631272500-1631274300@www.adventuresci.org
SUMMARY:Nightwatch
DESCRIPTION:25 minutes\nRecommended ages 9 and up\nCategories: fulldome\, astronomy\, available for private events\n\nCaptions are available for Explore—ask a team member as you enter the planetarium. Learn about accessibility at ASC.
URL:https://www.adventuresci.org/explore/nightwatch-2021-09-10/
CATEGORIES:Planetarium
ATTACH;FMTTYPE=image/jpeg:https://www.adventuresci.org/wp-content/uploads/2021/02/nightwatch_960-1.jpg
END:VEVENT
END:VCALENDAR