BEGIN:VCALENDAR
VERSION:2.0
PRODID:-//Adventure Science Center - ECPv6.0.8//NONSGML v1.0//EN
CALSCALE:GREGORIAN
METHOD:PUBLISH
X-WR-CALNAME:Adventure Science Center
X-ORIGINAL-URL:https://www.adventuresci.org
X-WR-CALDESC:Events for Adventure Science Center
REFRESH-INTERVAL;VALUE=DURATION:PT1H
X-Robots-Tag:noindex
X-PUBLISHED-TTL:PT1H
BEGIN:VTIMEZONE
TZID:America/Chicago
BEGIN:DAYLIGHT
TZOFFSETFROM:-0600
TZOFFSETTO:-0500
TZNAME:CDT
DTSTART:20210314T080000
END:DAYLIGHT
BEGIN:STANDARD
TZOFFSETFROM:-0500
TZOFFSETTO:-0600
TZNAME:CST
DTSTART:20211107T070000
END:STANDARD
TZID:UTC
BEGIN:STANDARD
TZOFFSETFROM:+0000
TZOFFSETTO:+0000
TZNAME:UTC
DTSTART:20210101T000000
END:STANDARD
END:VTIMEZONE
BEGIN:VEVENT
DTSTART;TZID=America/Chicago:20210909T111500
DTEND;TZID=America/Chicago:20210909T114500
DTSTAMP:20260420T070259
CREATED:20210723T164651Z
LAST-MODIFIED:20210812T133003Z
UID:11614-1631186100-1631187900@www.adventuresci.org
SUMMARY:Nightwatch
DESCRIPTION:25 minutes\nRecommended ages 9 and up\nCategories: fulldome\, astronomy\, available for private events\n\nCaptions are available for Explore—ask a team member as you enter the planetarium. Learn about accessibility at ASC.
URL:https://www.adventuresci.org/explore/nightwatch-2021-09-09/
CATEGORIES:Planetarium
ATTACH;FMTTYPE=image/jpeg:https://www.adventuresci.org/wp-content/uploads/2021/02/nightwatch_960-1.jpg
END:VEVENT
BEGIN:VEVENT
DTSTART;TZID=UTC:20210802T103000
DTEND;TZID=UTC:20210802T111500
DTSTAMP:20260420T070259
CREATED:20210126T031732Z
LAST-MODIFIED:20220414T155603Z
UID:2897-1627900200-1627902900@www.adventuresci.org
SUMMARY:Early Explorers
DESCRIPTION:NEW TIME!Join us on the second floor at Cosmic Rays for story time at 10:30am followed by an activity. Become a member and come to Early Explorers every week.
URL:https://www.adventuresci.org/explore/early-explorers/2021-08-02/
LOCATION:Adventure Science Center\, Nashville
ATTACH;FMTTYPE=image/jpeg:https://www.adventuresci.org/wp-content/uploads/2021/06/EarlyExplorer_WebsiteImage.jpeg
END:VEVENT
BEGIN:VEVENT
DTSTART;TZID=UTC:20210708T114500
DTEND;TZID=UTC:20210708T121500
DTSTAMP:20260420T070259
CREATED:20220503T020218Z
LAST-MODIFIED:20230531T151723Z
UID:14498-1625744700-1625746500@www.adventuresci.org
SUMMARY:Live Science Show
DESCRIPTION:Explore science concepts in our Live Science! programs. These demonstrations and hands-on programs spark imagination\, encourage curiosity\, and inspire a spirit of learning. \nWhen:Monday\, Thursday\, and Friday: 12:30 pmSaturday: 11:45 am\, 1:45 pm\, and 4:45 pmSunday: 11:45 am and 1:45 pmWhere: Eureka TheatreCost: Included in General Admission
URL:https://www.adventuresci.org/explore/live-science-show-2/
LOCATION:Eureka Theatre
CATEGORIES:Free Floor Demonstrations and Activities
ATTACH;FMTTYPE=image/jpeg:https://www.adventuresci.org/wp-content/uploads/2021/06/LiveScience_WebsiteImage.jpeg
END:VEVENT
END:VCALENDAR