BEGIN:VCALENDAR
VERSION:2.0
PRODID:-//Adventure Science Center - ECPv6.0.8//NONSGML v1.0//EN
CALSCALE:GREGORIAN
METHOD:PUBLISH
X-WR-CALNAME:Adventure Science Center
X-ORIGINAL-URL:https://www.adventuresci.org
X-WR-CALDESC:Events for Adventure Science Center
REFRESH-INTERVAL;VALUE=DURATION:PT1H
X-Robots-Tag:noindex
X-PUBLISHED-TTL:PT1H
BEGIN:VTIMEZONE
TZID:UTC
BEGIN:STANDARD
TZOFFSETFROM:+0000
TZOFFSETTO:+0000
TZNAME:UTC
DTSTART:20230101T000000
END:STANDARD
END:VTIMEZONE
BEGIN:VEVENT
DTSTART;TZID=UTC:20230922T170000
DTEND;TZID=UTC:20230922T193000
DTSTAMP:20260423T043725
CREATED:20230907T165631Z
LAST-MODIFIED:20230907T170551Z
UID:20591-1695402000-1695411000@www.adventuresci.org
SUMMARY:Teachers' Night Out
DESCRIPTION:Friday\, September 22 | 5:00 pm to 7:30 pmDATE: Friday\, September 22\, 2023WHEN: Doors open at 5:00 pm. Event will run 5:00 - 7:30 pm.WHO: Certified teachers! All teachers MUST be 21+ and registered with the link below (limited capacity)PRICE: FREEWHAT TO BRING: Driver's License & Teacher ID Click here to register! Please email Mackenzie O'Rourke if you have questions or need help with registration.
URL:https://www.adventuresci.org/explore/teachers-night-out-2023/
LOCATION:Adventure Science Center\, Nashville
ATTACH;FMTTYPE=image/png:https://www.adventuresci.org/wp-content/uploads/2022/08/TNO_branding.png
END:VEVENT
END:VCALENDAR